BEGIN:VCALENDAR
PRODID:NingEventWidget-v1
VERSION:2.0
METHOD:PUBLISH
BEGIN:VTIMEZONE
TZID:Asia/Dili
X-LIC-LOCATION:Asia/Dili
BEGIN:STANDARD
TZOFFSETFROM:+0900
TZOFFSETTO:+0900
TZNAME:TLT
DTSTART:19700101T000000
END:STANDARD
END:VTIMEZONE
BEGIN:VEVENT
UID:1117704:Event:290185
DTSTAMP:20260420T174308Z
SUMMARY:The Last Desert (Antarctica) 2022
DESCRIPTION:The Last Desert is the only multi-day race on the Antarcti
 c continent. The Last Desert in Antarctica is one of the most incredib
 le journeys in the world. Competitors traverse up to 250 km / 155 mile
 s across the largest desert in the world which is often referred to as
  the \"White Desert\". The race is held around the Antarctic Peninsula
  which has a remarkable history of polar exploration and whaling. The 
 scenic backdrop includes icebergs, mountains, research bases, seals, b
 irds and penguins.\n\nFor more information visit http://runningintokyo
 .com/events/the-last-desert-antarctica-2022
DTSTART;TZID=Asia/Dili:20221122T060000
DTEND;TZID=Asia/Dili:20221204T190000
CATEGORIES:ultramarathon
LOCATION:Ushuaia, Antarctica
WEBSITE:https://www.racingtheplanet.com/thelastdesert
URL:https://www.racingtheplanet.com/thelastdesert
CONTACT:+85281028113
ORGANIZER:RacingThePlanet
ATTACH;FMTTYPE="image/jpeg":https://storage.ning.com/topology/rest/1.0
 /file/get/10039540291?profile=original
ATTENDEE;ROLE=REQ-PARTICIPANT;PARTSTAT=ACCEPTED;RSVP=TRUE;CN="4 Desert
 s":http://runningintokyo.com/profile/RacingThePlanet
END:VEVENT
END:VCALENDAR
