BEGIN:VCALENDAR
PRODID:NingEventWidget-v1
VERSION:2.0
METHOD:PUBLISH
BEGIN:VTIMEZONE
TZID:Asia/Dili
X-LIC-LOCATION:Asia/Dili
BEGIN:STANDARD
TZOFFSETFROM:+0900
TZOFFSETTO:+0900
TZNAME:TLT
DTSTART:19700101T000000
END:STANDARD
END:VTIMEZONE
BEGIN:VEVENT
UID:1117704:Event:123098
DTSTAMP:20260424T200522Z
SUMMARY:The Last Desert (Antarctica) 2016
DESCRIPTION:The Last Desert is a 6-stage, 250-kilometer self-supported
  footrace at the final frontier in Antarctica. This race is only open 
 to those who have completed at least two of the 4 Deserts Race Series 
 events which include the Gobi March in China, the Atacama Crossing in 
 Chile and the Sahara Race (which currently takes place in Namibia). Ea
 ch individual must carry a minimal amount of safety equipment. Assista
 nce is provided throughout including water (plenty), shelter and medic
 al assistance.\n \nThe Last Desert is the only multi-day stage race o
 n the Antarctic continent. It will begin in Ushuaia, Argentina - compe
 titors will travel by ship across the famous Drake Passage to several 
 locations in Antarctica and outlying islands. Besides racing, competit
 ors will experience the unique wildlife in Antarctica, glaciers and ar
 e transported by zodiacs to shore each day. This once-in-a-lifetime ex
 perience is not only open for competitors, family and friends and also
  welcomed to join.\n \nMore information about the race is available a
 t www.4deserts.com/thelastdesert\n\nFor more information visit http://
 runningintokyo.com/events/the-last-desert-antarctica-2016
DTSTART;TZID=Asia/Dili:20161118T180000
DTEND;TZID=Asia/Dili:20161129T190000
CATEGORIES:ultramarathon
LOCATION:Antarctic
WEBSITE:http://www.4deserts.com/thelastdesert/
URL:http://www.4deserts.com/thelastdesert/
CONTACT:
ORGANIZER;CN="4 Deserts":http://runningintokyo.com/profile/RacingThePl
 anet
ATTACH;FMTTYPE="image/jpeg":http://storage.ning.com/topology/rest/1.0/
 file/get/1987274869?profile=original
ATTENDEE;ROLE=REQ-PARTICIPANT;PARTSTAT=ACCEPTED;RSVP=TRUE;CN="Terry Ba
 ble":http://runningintokyo.com/profile/TerryBable
ATTENDEE;ROLE=REQ-PARTICIPANT;PARTSTAT=ACCEPTED;RSVP=TRUE;CN="4 Desert
 s":http://runningintokyo.com/profile/RacingThePlanet
END:VEVENT
END:VCALENDAR
