BEGIN:VCALENDAR
PRODID:NingEventWidget-v1
VERSION:2.0
METHOD:PUBLISH
BEGIN:VTIMEZONE
TZID:Asia/Dili
X-LIC-LOCATION:Asia/Dili
BEGIN:STANDARD
TZOFFSETFROM:+0900
TZOFFSETTO:+0900
TZNAME:TLT
DTSTART:19700101T000000
END:STANDARD
END:VTIMEZONE
BEGIN:VEVENT
UID:1117704:Event:224090
DTSTAMP:20260420T203826Z
SUMMARY:Run for Youth
DESCRIPTION:Please join our virtual 10k for Cambodia!\r\nhttps://vdoto
 2.com/purchase?productId=201092\r\nThe Second Virtual Race by ecomarat
 hon.run This time, we will do a 10k, and like last time, runners all o
 ver the world can take part. The charity is WeRunInCambodia, a group o
 f runners in Cambodia that strives to bring better training methods an
 d the fun of exercise to all citizens of Cambodia by creating a bookle
 t in Khmer language and promoting it to the relevant stakeholders. The
 y are also supported by UNESCO, if you want to know more, please read 
 the paper that was filed for the grant application to UNESCO (Proposal
 -UNESCO-Cambodia-1.pdf). ecomarathon.run will cover all transfer fees,
  so 100% of the participation fees will go to charity. Extra charity d
 onations are very welcome and 100% will go to charity. Race day is Dec
 ember 27, however, if you cannot make it that day, you can upload a St
 rava Run from one of the days before and it will be counted as run on 
 December 27. We hope to have a virtual get-together in the evening of 
 December 27, Japanese time on https://meet.jit.si/ecomarathon I will a
 lso be available online in the days prior to answer questions. Details
  about virtual meetings will be mailed to the participants later. Webs
 ite: https://www.runningincambodia.org/\n\nFor more information visit 
 http://runningintokyo.com/events/run-for-youth
DTSTART;TZID=Asia/Dili:20201227T000000
DTEND;TZID=Asia/Dili:20201227T235900
CATEGORIES:race
LOCATION:Planet Earth
WEBSITE:
URL:
CONTACT:080-3462-6833
ORGANIZER;CN="juergen wittstock":http://runningintokyo.com/profile/spi
 ridon
ATTACH;FMTTYPE="image/jpeg":https://storage.ning.com/topology/rest/1.0
 /file/get/8213079052?profile=original
ATTENDEE;ROLE=REQ-PARTICIPANT;PARTSTAT=ACCEPTED;RSVP=TRUE;CN="juergen 
 wittstock":http://runningintokyo.com/profile/spiridon
END:VEVENT
END:VCALENDAR
