BEGIN:VCALENDAR
PRODID:NingEventWidget-v1
VERSION:2.0
METHOD:PUBLISH
BEGIN:VTIMEZONE
TZID:Asia/Dili
X-LIC-LOCATION:Asia/Dili
BEGIN:STANDARD
TZOFFSETFROM:+0900
TZOFFSETTO:+0900
TZNAME:TLT
DTSTART:19700101T000000
END:STANDARD
END:VTIMEZONE
BEGIN:VEVENT
UID:1117704:Event:292581
DTSTAMP:20260422T162541Z
SUMMARY:RacingThePlanet: The 20-Year Race
DESCRIPTION:RacingThePlanet is excited to announce that its next \"Rov
 ing Race\" will be located in JORDAN to celebrate its 20-year annivers
 ary. With three races planned, the Gobi March in Mongolia, the Atacama
  Crossing in Chile, and RacingThePlanet: The 20-Year Race will each fe
 ature special activities and celebrations as we bring together past al
 umni and welcome new members to the RacingThePlanet Family. Jordan has
  been specially selected as a location with iconic desert scenery and 
 culture, and we feel that there is no better way to celebrate 20 years
  than with a finish at the ancient village of Petra. With over 100,000
  archeological sites, only 15 percent of Jordan has yet to be explored
 . Competitors will see Petra, Wadi Rum, The Treasury, and other histor
 ical sites as they traverse 250 kilometers (155 miles) across this mos
 t spectacular desert landscape. As an important bridge between Europe,
  Asia and Africa, Jordan was specially chosen for this special celebra
 tion which will bring together 50 nationalities to celebrate our anniv
 ersary.\n\n\n\n\n\n\nFor more information visit http://runningintokyo.
 com/events/racingtheplanet-the-20-year-race
DTSTART;TZID=Asia/Dili:20240922T060000
DTEND;TZID=Asia/Dili:20240928T190000
CATEGORIES:ultramarathon
LOCATION:PETRA, JORDAN
WEBSITE:https://www.racingtheplanet.com/the-20-year-race/
URL:https://www.racingtheplanet.com/the-20-year-race/
CONTACT:+852 92693607
ORGANIZER:RacingThePlanet
ATTACH;FMTTYPE="image/jpeg":https://storage.ning.com/topology/rest/1.0
 /file/get/12358124461?profile=original
ATTENDEE;ROLE=REQ-PARTICIPANT;PARTSTAT=ACCEPTED;RSVP=TRUE;CN="4 Desert
 s":http://runningintokyo.com/profile/RacingThePlanet
END:VEVENT
END:VCALENDAR
