BEGIN:VCALENDAR
PRODID:NingEventWidget-v1
VERSION:2.0
METHOD:PUBLISH
BEGIN:VTIMEZONE
TZID:Asia/Dili
X-LIC-LOCATION:Asia/Dili
BEGIN:STANDARD
TZOFFSETFROM:+0900
TZOFFSETTO:+0900
TZNAME:TLT
DTSTART:19700101T000000
END:STANDARD
END:VTIMEZONE
BEGIN:VEVENT
UID:1117704:Event:290477
DTSTAMP:20260423T005622Z
SUMMARY:RacingThePlanet: Lapland 2022
DESCRIPTION:Lapland in Finland is the location of the THIRTEENTH editi
 on of the RacingThePlanet Ultramarathon. Considered the last wildernes
 s in Europe and land of the midnight sun because the sun literally nev
 er sets in summer. Lapland is also one of the best places to see the N
 orthern Lights!\nThe 250km / 155 mile course showcases the breathtakin
 g highlights of Lapland including stunning fells, coloured rocky ravin
 es with “rakka” rocks from the Ice Age, great Taiga forests, up to
  500-year-old kelo trees, pristine lakes as well as clear rivers and s
 tunning gorges. Competitors will also experience the Sámi culture as 
 well as many species of reindeer who out-number people in this sparsel
 y populated region.\n\nFor more information visit http://runningintoky
 o.com/events/racingtheplanet-lapland-2022
DTSTART;TZID=Asia/Dili:20220814T080000
DTEND;TZID=Asia/Dili:20220820T170000
CATEGORIES:ultramarathon
LOCATION:Rovaniemi, Lapland, Finland
WEBSITE:https://www.racingtheplanet.com/lapland/
URL:https://www.racingtheplanet.com/lapland/
CONTACT:+85281028113
ORGANIZER:RacingThePlanet
ATTACH;FMTTYPE="image/jpeg":https://storage.ning.com/topology/rest/1.0
 /file/get/10039538463?profile=original
ATTENDEE;ROLE=REQ-PARTICIPANT;PARTSTAT=ACCEPTED;RSVP=TRUE;CN="4 Desert
 s":http://runningintokyo.com/profile/RacingThePlanet
END:VEVENT
END:VCALENDAR
