BEGIN:VCALENDAR
PRODID:NingEventWidget-v1
VERSION:2.0
METHOD:PUBLISH
BEGIN:VTIMEZONE
TZID:Asia/Dili
X-LIC-LOCATION:Asia/Dili
BEGIN:STANDARD
TZOFFSETFROM:+0900
TZOFFSETTO:+0900
TZNAME:TLT
DTSTART:19700101T000000
END:STANDARD
END:VTIMEZONE
BEGIN:VEVENT
UID:1117704:Event:107327
DTSTAMP:20260422T025039Z
SUMMARY:RacingThePlanet: Ecuador 2015
DESCRIPTION:The eighth Roving Race will take place in Ecuador starting
  on 26 July 2015. Competitors will experience rugged highlands, stunni
 ng waterfalls, vistas of snow-capped volcanoes, cloud forests, an anci
 ent Inca trail and ruins, lush national parks and indigenous Inca vill
 ages. You will explore the beauty, diversity and culture of the countr
 y which is also home to the Galápagos Islands, a UNESCO Heritage Site
 .\nThe 4 Deserts is the world's leading rough-country endurance footra
 ce series. A unique collection of world-class events that take place o
 ver 7 days and 250 kilometers in the largest and most forbidding deser
 ts on the planet.\nCompetitors are challenged to go beyond the limits 
 of their physical and mental endurance. Racing self-supported in the m
 ost inhospitable climates and formidable landscapes, they must carry a
 ll their own equipment and food and are only provided with drinking wa
 ter and a place in a tent each night to rest.\nThe series, named again
  by TIME magazine in 2010 as one of the world's Top 10 Endurance Compe
 titions, comprises the Atacama Crossing in Chile, the Gobi March in Ch
 ina, the Sahara Race in Jordan and The Last Desert in Antarctica.\n \
 n\n\nFor more information visit http://runningintokyo.com/events/racin
 gtheplanet-ecuador-2015
DTSTART;TZID=Asia/Dili:20150726T000000
DTEND;TZID=Asia/Dili:20150801T235900
CATEGORIES:multi-stage
LOCATION:Quito, Ecuador
WEBSITE:http://www.4deserts.com/beyond/ecuador/
URL:http://www.4deserts.com/beyond/ecuador/
CONTACT:
ORGANIZER;CN="4 Deserts":http://runningintokyo.com/profile/RacingThePl
 anet
ATTACH;FMTTYPE="image/jpeg":http://storage.ning.com/topology/rest/1.0/
 file/get/1987274296?profile=original
ATTENDEE;ROLE=REQ-PARTICIPANT;PARTSTAT=ACCEPTED;RSVP=TRUE;CN="Terry Ba
 ble":http://runningintokyo.com/profile/TerryBable
ATTENDEE;ROLE=REQ-PARTICIPANT;PARTSTAT=ACCEPTED;RSVP=TRUE;CN="4 Desert
 s":http://runningintokyo.com/profile/RacingThePlanet
END:VEVENT
END:VCALENDAR
