BEGIN:VCALENDAR
PRODID:NingEventWidget-v1
VERSION:2.0
METHOD:PUBLISH
BEGIN:VTIMEZONE
TZID:Asia/Dili
X-LIC-LOCATION:Asia/Dili
BEGIN:STANDARD
TZOFFSETFROM:+0900
TZOFFSETTO:+0900
TZNAME:TLT
DTSTART:19700101T000000
END:STANDARD
END:VTIMEZONE
BEGIN:VEVENT
UID:1117704:Event:290076
DTSTAMP:20260422T231748Z
SUMMARY:Photak Marathon 2022
DESCRIPTION:Photak Marathon one of Aims international Race plus Wanda 
 Marathon Major Qualifer.\nEvent have Marathon,(42.195km)\nHalf Maratho
 n, (21km)\nMini Marathon (10.5)\nAge Group Male/Female 18-29,30-34,35-
 39,40-44,45-49,50-54,55-59,60-64,65-69,70-74,75-79,80+\nEvery age grou
 p Top 1-15 get Trophies with small cash award.\nEvery runner get one e
 vent shirt+one finisher shirt.\nEvery runner get one medal with timing
  chip.\nEvery runner food and drink free during race.\nEvery Runner Sa
 turday Evening dinner free with Music show.\nInternational runner join
  Tour at thaiwmm@gmail.com\n\nFor more information visit http://runnin
 gintokyo.com/events/photak-marathon-2022
DTSTART;TZID=Asia/Dili:20220814T020000
DTEND;TZID=Asia/Dili:20220814T100000
CATEGORIES:road, race
LOCATION:Ban Sun Klang
WEBSITE:http://www.photakmarathon.com
URL:http://www.photakmarathon.com
CONTACT:0835363583
ORGANIZER:Thaiwmm
ATTACH;FMTTYPE="image/jpeg":https://storage.ning.com/topology/rest/1.0
 /file/get/9625513293?profile=original
ATTENDEE;ROLE=REQ-PARTICIPANT;PARTSTAT=ACCEPTED;RSVP=TRUE;CN="kongkaew
  wanthana":http://runningintokyo.com/profile/kongkaewwanthana
END:VEVENT
END:VCALENDAR
