BEGIN:VCALENDAR
PRODID:NingEventWidget-v1
VERSION:2.0
METHOD:PUBLISH
BEGIN:VTIMEZONE
TZID:Asia/Dili
X-LIC-LOCATION:Asia/Dili
BEGIN:STANDARD
TZOFFSETFROM:+0900
TZOFFSETTO:+0900
TZNAME:TLT
DTSTART:19700101T000000
END:STANDARD
END:VTIMEZONE
BEGIN:VEVENT
UID:1117704:Event:16322
DTSTAMP:20260424T114345Z
SUMMARY:Mongolia S2S
DESCRIPTION:only trail, 3500hm, 16 hours closing time\n\nFor more info
 rmation visit http://runningintokyo.com/events/mongolia-s2s
DTSTART;TZID=Asia/Dili:20100721T040000
DTEND;TZID=Asia/Dili:20100721T220000
CATEGORIES:100k, ultra, marathon
LOCATION:Mongolia Lake Hovsgol
WEBSITE:http://www.ultramongolia.org/
URL:http://www.ultramongolia.org/
CONTACT:
ORGANIZER:ecoLeap foundation
ATTACH;FMTTYPE="image/jpeg":http://storage.ning.com/topology/rest/1.0/
 file/get/1987261645?profile=original
ATTENDEE;ROLE=REQ-PARTICIPANT;PARTSTAT=ACCEPTED;RSVP=TRUE;CN="Terry Ba
 ble":http://runningintokyo.com/profile/TerryBable
ATTENDEE;ROLE=REQ-PARTICIPANT;PARTSTAT=ACCEPTED;RSVP=TRUE;CN="Barbara 
 Schulz":http://runningintokyo.com/profile/BarbaraSchulz
END:VEVENT
END:VCALENDAR
