BEGIN:VCALENDAR
PRODID:NingEventWidget-v1
VERSION:2.0
METHOD:PUBLISH
BEGIN:VTIMEZONE
TZID:Asia/Dili
X-LIC-LOCATION:Asia/Dili
BEGIN:STANDARD
TZOFFSETFROM:+0900
TZOFFSETTO:+0900
TZNAME:TLT
DTSTART:19700101T000000
END:STANDARD
END:VTIMEZONE
BEGIN:VEVENT
UID:1117704:Event:17490
DTSTAMP:20260424T042255Z
SUMMARY:Hongkong Training Camp - 香港合宿
DESCRIPTION:Ever raced in Hongkong? There are a lot of fun races aroun
 d X-mas and New Year in the territory, and there is the mild climate a
 nd the illumination of Victoria Harbor, and well, yes, the Nutcracker 
 of the Hongkong Ballet Company! What could be a better place for a won
 derful X-mas vacation!\nMy first race will be the Boxing Day Run organ
 ized by the Hongkong Ladies' Road Runners (Dec.26., for non-boxers). I
  am sure our Hongkong members will provide info about plenty of other 
 events around New Year.\nI will rent an apartment or house on car-free
  Lamma Island, and people are welcome to stay (let me know early!). Fo
 r info on flights, ask the usual suspect, I mean, just browse \"Runfab
 \" on this website and send him a message!\nLooking forward!\nJuergen\
 nHongkong Ladies' Roadrunners\n\nFor more information visit http://run
 ningintokyo.com/events/hongkong-training-camp-xiang
DTSTART;TZID=Asia/Dili:20101223T180000
DTEND;TZID=Asia/Dili:20110111T190000
CATEGORIES:training, camp
LOCATION:Hongkong
WEBSITE:
URL:
CONTACT:
ORGANIZER;CN="juergen wittstock":http://runningintokyo.com/profile/spi
 ridon
ATTACH;FMTTYPE="image/jpeg":http://storage.ning.com/topology/rest/1.0/
 file/get/1987261863?profile=original
ATTENDEE;ROLE=REQ-PARTICIPANT;PARTSTAT=ACCEPTED;RSVP=TRUE;CN="Terry Ba
 ble":http://runningintokyo.com/profile/TerryBable
ATTENDEE;ROLE=REQ-PARTICIPANT;PARTSTAT=ACCEPTED;RSVP=TRUE;CN="Francis 
 kimeli kemei":http://runningintokyo.com/profile/Franciskimelikemei
ATTENDEE;ROLE=REQ-PARTICIPANT;PARTSTAT=ACCEPTED;RSVP=TRUE;CN="juergen 
 wittstock":http://runningintokyo.com/profile/spiridon
ATTENDEE;ROLE=REQ-PARTICIPANT;PARTSTAT=TENTATIVE;RSVP=TRUE;CN="Bernd P
 lagge":http://runningintokyo.com/profile/BerndPlagge
ATTENDEE;ROLE=REQ-PARTICIPANT;PARTSTAT=TENTATIVE;RSVP=TRUE;CN=Michael:
 http://runningintokyo.com/profile/Michael
END:VEVENT
END:VCALENDAR
