BEGIN:VCALENDAR
PRODID:NingEventWidget-v1
VERSION:2.0
METHOD:PUBLISH
BEGIN:VTIMEZONE
TZID:Asia/Dili
X-LIC-LOCATION:Asia/Dili
BEGIN:STANDARD
TZOFFSETFROM:+0900
TZOFFSETTO:+0900
TZNAME:TLT
DTSTART:19700101T000000
END:STANDARD
END:VTIMEZONE
BEGIN:VEVENT
UID:1117704:Event:290191
DTSTAMP:20260424T154523Z
SUMMARY:Gobi March (Mongolia) 2023
DESCRIPTION:The Gobi March is a 7-day, 250 km / 155 mile footrace that
  takes place in the stunning Karakorum region of Central Mongolia. Thr
 ough the seven days competitors traverse through the vast Mongolian st
 eppes, sand dunes and great rock valleys as they complete the 250-kilo
 meter / 155-mile course. The race goes through the Khar Bukh Balgas Fo
 rtress, many stupas and temples, traditional Mongolian ger villages, t
 he UNESCO World Heritage Centre of the Orkhon Valley and finally ends 
 at the Ancient City of Karakorum.\n\nFor more information visit http:/
 /runningintokyo.com/events/gobi-march-mongolia-2023
DTSTART;TZID=Asia/Dili:20230618T080000
DTEND;TZID=Asia/Dili:20230624T170000
CATEGORIES:ultramarathon
LOCATION:Ulaanbaatar, Mongolia
WEBSITE:https://www.racingtheplanet.com/gobimarch
URL:https://www.racingtheplanet.com/gobimarch
CONTACT:+85281028113
ORGANIZER:RacingThePlanet
ATTACH;FMTTYPE="image/jpeg":https://storage.ning.com/topology/rest/1.0
 /file/get/10039543491?profile=original
ATTENDEE;ROLE=REQ-PARTICIPANT;PARTSTAT=ACCEPTED;RSVP=TRUE;CN="4 Desert
 s":http://runningintokyo.com/profile/RacingThePlanet
END:VEVENT
END:VCALENDAR
