BEGIN:VCALENDAR
PRODID:NingEventWidget-v1
VERSION:2.0
METHOD:PUBLISH
BEGIN:VTIMEZONE
TZID:Asia/Dili
X-LIC-LOCATION:Asia/Dili
BEGIN:STANDARD
TZOFFSETFROM:+0900
TZOFFSETTO:+0900
TZNAME:TLT
DTSTART:19700101T000000
END:STANDARD
END:VTIMEZONE
BEGIN:VEVENT
UID:1117704:Event:106194
DTSTAMP:20260422T124512Z
SUMMARY:皇居エコマラソンマラソンfor Charity
DESCRIPTION:日　　時：２０１４年１１月９日（日）\n
  付: リレー：8.00 - 8.45 　　　 5/10km:9.00 - 10.00\nリレ
 ・マラソン - 皇居の周囲5kmを、各組走者がリレーし
 ながら3時間走るもので、最多ラップを走った組の勝
 ちとなります。\n　スタート: ９：００（リレー）・
 １０：３０（１０・５k）\n　　　　　１０km （男女
 部)定員：２００名\n　　　 　   ５kmファンラン（
 男女の部）定員１００名　\n※ ５ｋｍファンランは
 中学生のお子さんと一緒に参加可能。その場合お
 さんは参加無料ですが申し込みが必要です。\n制限
 間：１時間３０分\n貴重品 ： 荷物預かりはござい
 せん。近くの駅にロッカーあり。\n参加賞：クロマ
 （カンボジアのスカーフ）、野球帽、サンバイザー
 ら選択。\n注意 ： 参加される方は各自健康に十分
 意の上ご参加ください。\n参加費：　１０㎞・５㎞
 　３７００円 （保険代も含む）\n申込方法：　　runn
 et.jp・sportsentry.ne.jp・sportsone.jp\n入賞：１０・５キロ
 ・女３位まで。\n結果と写真は runningintokyo.comを見
 ください。\n締切:大会20日前（定員になっていない
 合は当日申し込み可能）。\n０４８ー４７３ー０８
 ９８にご連絡ください）\n参加資格：１０ｋm高校生
 上の健康な方\n5kmファンラン小学生以上の健康の方
 \n会場：皇居外苑\n集合場所：皇居　桜田門前の広場
 （大会会場までは公共機関をご利用ください。駐車
 は　ありません。 最寄り駅：東京メトロ有楽町線
 桜田門駅　③番出口より徒歩１分\n主　　催：runnin
 gintokyo.com（ランニングトウキョウドットコム）\n協
 　：Alishan, SKW Asia, エコネクス　\n寄付先：refugeesinte
 rnationaljapan.org（参加費の中から１０００円）\n\nFor mo
 re information visit http://runningintokyo.com/events/for-charity
DTSTART;TZID=Asia/Dili:20141109T090000
DTEND;TZID=Asia/Dili:20141109T130000
CATEGORIES:race
LOCATION:皇居桜田門広場
WEBSITE:
URL:
CONTACT:０４８−４７３−０８９８
ORGANIZER;CN="juergen wittstock":http://runningintokyo.com/profile/spi
 ridon
ATTACH;FMTTYPE="image/jpeg":http://storage.ning.com/topology/rest/1.0/
 file/get/1987272156?profile=original
ATTENDEE;ROLE=REQ-PARTICIPANT;PARTSTAT=ACCEPTED;RSVP=TRUE;CN="Leon Tsu
 nehiro Yu-Tsu Tai":http://runningintokyo.com/profile/taiyutsuleontsune
 hiro
ATTENDEE;ROLE=REQ-PARTICIPANT;PARTSTAT=ACCEPTED;RSVP=TRUE;CN="juergen 
 wittstock":http://runningintokyo.com/profile/spiridon
END:VEVENT
END:VCALENDAR
