BEGIN:VCALENDAR
PRODID:NingEventWidget-v1
VERSION:2.0
METHOD:PUBLISH
BEGIN:VTIMEZONE
TZID:Asia/Dili
X-LIC-LOCATION:Asia/Dili
BEGIN:STANDARD
TZOFFSETFROM:+0900
TZOFFSETTO:+0900
TZNAME:TLT
DTSTART:19700101T000000
END:STANDARD
END:VTIMEZONE
BEGIN:VEVENT
UID:1117704:Event:291475
DTSTAMP:20260424T154521Z
SUMMARY:Atacama Crossing (Chile) 2023
DESCRIPTION:The Atacama Crossing is a 7-day, 250 km / 155 mile footrac
 e that takes place in the incredible Atacama Desert of Chile. Through 
 the seven days, competitors traverse through salt flats, massive sand 
 dunes, icy cold slot canyons, river crossings, and experience starry n
 ights while in the foothills of the Andes mountains as they complete t
 he 250-kilometer / 155-mile course. The race goes through the Salar de
  Atacama, Moon Valley and Valle de la Muerte, and finally ends in the 
 Town Square of the adobe-like village of San Pedro de Atacama.\n\nFor 
 more information visit http://runningintokyo.com/events/atacama-crossi
 ng-chile-2023
DTSTART;TZID=Asia/Dili:20230924T070000
DTEND;TZID=Asia/Dili:20230930T190000
CATEGORIES:ultramarathon
LOCATION:San Pedro de Atacama, Chile
WEBSITE:https://www.racingtheplanet.com/atacamacrossing/
URL:https://www.racingtheplanet.com/atacamacrossing/
CONTACT:
ORGANIZER:RacingThePlanet
ATTACH;FMTTYPE="image/jpeg":https://storage.ning.com/topology/rest/1.0
 /file/get/10979167891?profile=original
ATTENDEE;ROLE=REQ-PARTICIPANT;PARTSTAT=ACCEPTED;RSVP=TRUE;CN="4 Desert
 s":http://runningintokyo.com/profile/RacingThePlanet
END:VEVENT
END:VCALENDAR
