BEGIN:VCALENDAR
PRODID:NingEventWidget-v1
VERSION:2.0
METHOD:PUBLISH
BEGIN:VTIMEZONE
TZID:Asia/Dili
X-LIC-LOCATION:Asia/Dili
BEGIN:STANDARD
TZOFFSETFROM:+0900
TZOFFSETTO:+0900
TZNAME:TLT
DTSTART:19700101T000000
END:STANDARD
END:VTIMEZONE
BEGIN:VEVENT
UID:1117704:Event:123108
DTSTAMP:20260424T170318Z
SUMMARY:Atacama Crossing (Chile) 2016
DESCRIPTION:The course of the Atacama Crossing (Chile), a 7-day, 250-k
 ilometer self-supported footrace, takes competitors across a wide vari
 ety of terrains and includes approximately 3,500 meters (11,500 feet) 
 of ascents and descents over the 7-day race. Competitors will tackle s
 and-dunes, river crossings, gravel, loose rocks, hard packed earth and
  even waist high grass during the event. This is in addition to the in
 famous salt flats that even the most dexterous of runners find nearly 
 impossible to cross at full-speed. More information about the race is 
 available at www.4deserts.com/atacamacrossing\n\nFor more information 
 visit http://runningintokyo.com/events/atacama-crossing-chile-2016
DTSTART;TZID=Asia/Dili:20161002T080000
DTEND;TZID=Asia/Dili:20161008T180000
CATEGORIES:ultramarathon
LOCATION:San Pedro de Atacama, Chile
WEBSITE:http://www.4deserts.com/atacamacrossing/
URL:http://www.4deserts.com/atacamacrossing/
CONTACT:
ORGANIZER;CN="4 Deserts":http://runningintokyo.com/profile/RacingThePl
 anet
ATTACH;FMTTYPE="image/jpeg":http://storage.ning.com/topology/rest/1.0/
 file/get/1987274877?profile=original
ATTENDEE;ROLE=REQ-PARTICIPANT;PARTSTAT=ACCEPTED;RSVP=TRUE;CN="Terry Ba
 ble":http://runningintokyo.com/profile/TerryBable
ATTENDEE;ROLE=REQ-PARTICIPANT;PARTSTAT=ACCEPTED;RSVP=TRUE;CN="4 Desert
 s":http://runningintokyo.com/profile/RacingThePlanet
END:VEVENT
END:VCALENDAR
