BEGIN:VCALENDAR
PRODID:NingEventWidget-v1
VERSION:2.0
METHOD:PUBLISH
BEGIN:VTIMEZONE
TZID:Asia/Dili
X-LIC-LOCATION:Asia/Dili
BEGIN:STANDARD
TZOFFSETFROM:+0900
TZOFFSETTO:+0900
TZNAME:TLT
DTSTART:19700101T000000
END:STANDARD
END:VTIMEZONE
BEGIN:VEVENT
UID:1117704:Event:111989
DTSTAMP:20260422T041756Z
SUMMARY:Atacama Crossing (Chile) 2015
DESCRIPTION:The course of the Atacama Crossing takes competitors acros
 s a wide variety of terrains and includes approximately 3,500 meters (
 11,500 feet) of ascents and descents over the 7-day race. Competitors
  will tackle sand-dunes, river crossings, gravel, loose rocks, hard pa
 cked earth and even waist high grass during the event. This is in addi
 tion to the infamous salt flats that even the most dexterous of runner
 s find nearly impossible to cross at full-speed. \n\nFor more informa
 tion visit http://runningintokyo.com/events/atacama-crossing-chile-201
 5
DTSTART;TZID=Asia/Dili:20151004T000000
DTEND;TZID=Asia/Dili:20151010T235900
CATEGORIES:stage, race
LOCATION:San Pedro, Chile
WEBSITE:http://www.4deserts.com/atacamacrossing/
URL:http://www.4deserts.com/atacamacrossing/
CONTACT:
ORGANIZER;CN="4 Deserts":http://runningintokyo.com/profile/RacingThePl
 anet
ATTACH;FMTTYPE="image/jpeg":http://storage.ning.com/topology/rest/1.0/
 file/get/1987275008?profile=original
ATTENDEE;ROLE=REQ-PARTICIPANT;PARTSTAT=ACCEPTED;RSVP=TRUE;CN="4 Desert
 s":http://runningintokyo.com/profile/RacingThePlanet
END:VEVENT
END:VCALENDAR
