BEGIN:VCALENDAR
PRODID:NingEventWidget-v1
VERSION:2.0
METHOD:PUBLISH
BEGIN:VTIMEZONE
TZID:Asia/Dili
X-LIC-LOCATION:Asia/Dili
BEGIN:STANDARD
TZOFFSETFROM:+0900
TZOFFSETTO:+0900
TZNAME:TLT
DTSTART:19700101T000000
END:STANDARD
END:VTIMEZONE
BEGIN:VEVENT
UID:1117704:Event:14150
DTSTAMP:20260424T101921Z
SUMMARY:63rd Fuji Mountain Race
DESCRIPTION:There are two divisions: the race to the summit and the ra
 ce to the 5th Station (half way up Mt. Fuji). The Summit Race is 21 km
  with an elevation gain of 3000m. The 5th Station Race is 15km with an
  elevation gain of 1480m.\nParticipants are capped at 3000 people for 
 the Summit Race, and 776 people for the 5th Station Race.\n\nRegistrat
 ion: from March 23rd Tue to 31st Wed.\nIt’s possible to be closed on
  the first registration day.\n\nhttp://runnet.jp/runtes/raceDetail/ent
 ry/b14115.html\n\nRegistration Fee:\n- 8,000yen for the summit race\n-
  7,000yen for the 5th station race\n\nStart:\n- 7:00am for the summit 
 race\n- 8:30am for the 5th station race\n\nTime limit:\n- 11:30am on t
 he summit\n\nPls. note!\nYou are only qualified for the summit race if
  the 5th station race had been finished in less 2h30min once in the la
 st three years.\n\nIf you have never done this race, you will not be a
 ble to choose the summit race. You have to register for the 5th statio
 n course.\n\nhttp://www.fujimountainrace.jp/forms/info/info.aspx?info_
 id=15533\n\nFor more information visit http://runningintokyo.com/event
 s/63rd-fuji-mountain-race
DTSTART;TZID=Asia/Dili:20100723T070000
DTEND;TZID=Asia/Dili:20100723T143000
CATEGORIES:mountain, race, trail
LOCATION:Yamanashi
WEBSITE:http://maps.google.com/maps?f=q&source=s_q&hl=de&geocode=&q=%E
 3%80%92403-0005+%E5%B1%B1%E6%A2%A8%E7%9C%8C%E5%AF%8C%E5%A3%AB%E5%90%89
 %E7%94%B0%E5%B8%82%E4%B8%8A%E5%90%89%E7%94%B02-5-1&sll=37.0625,-95.677
 068&sspn=30.048013,31.816406&ie=UTF8&hq=&hnear=Japan,+Pr%C3%A4fektur+Y
 amanashi+Fujiyoshida%E4%B8%8A%E5%90%89%E7%94%B0%EF%BC%92%E4%B8%81%E7%9
 B%AE%EF%BC%95%E2%88%92%EF%BC%91&z=16
URL:http://maps.google.com/maps?f=q&source=s_q&hl=de&geocode=&q=%E3%80
 %92403-0005+%E5%B1%B1%E6%A2%A8%E7%9C%8C%E5%AF%8C%E5%A3%AB%E5%90%89%E7%
 94%B0%E5%B8%82%E4%B8%8A%E5%90%89%E7%94%B02-5-1&sll=37.0625,-95.677068&
 sspn=30.048013,31.816406&ie=UTF8&hq=&hnear=Japan,+Pr%C3%A4fektur+Yaman
 ashi+Fujiyoshida%E4%B8%8A%E5%90%89%E7%94%B0%EF%BC%92%E4%B8%81%E7%9B%AE
 %EF%BC%95%E2%88%92%EF%BC%91&z=16
CONTACT:0555-22-8261
ORGANIZER:Fuji Mounten Race Organization
ATTACH;FMTTYPE="image/jpeg":http://storage.ning.com/topology/rest/1.0/
 file/get/1987260368?profile=original
ATTENDEE;ROLE=REQ-PARTICIPANT;PARTSTAT=ACCEPTED;RSVP=TRUE;CN="Terry Ba
 ble":http://runningintokyo.com/profile/TerryBable
ATTENDEE;ROLE=REQ-PARTICIPANT;PARTSTAT=ACCEPTED;RSVP=TRUE;CN="MORRIS C
 hristiane":http://runningintokyo.com/profile/MORRISChristiane
ATTENDEE;ROLE=REQ-PARTICIPANT;PARTSTAT=ACCEPTED;RSVP=TRUE;CN="Michael 
 Tandler":http://runningintokyo.com/profile/MichaelTandler
ATTENDEE;ROLE=REQ-PARTICIPANT;PARTSTAT=TENTATIVE;RSVP=TRUE;CN="Paul Mu
 ndt":http://runningintokyo.com/profile/PaulMundt
ATTENDEE;ROLE=REQ-PARTICIPANT;PARTSTAT=TENTATIVE;RSVP=TRUE;CN="Brian G
 oldstein":http://runningintokyo.com/profile/BrianGoldstein
ATTENDEE;ROLE=REQ-PARTICIPANT;PARTSTAT=TENTATIVE;RSVP=TRUE;CN="juergen
  wittstock":http://runningintokyo.com/profile/spiridon
END:VEVENT
END:VCALENDAR
