BEGIN:VCALENDAR
PRODID:NingEventWidget-v1
VERSION:2.0
METHOD:PUBLISH
BEGIN:VTIMEZONE
TZID:Asia/Dili
X-LIC-LOCATION:Asia/Dili
BEGIN:STANDARD
TZOFFSETFROM:+0900
TZOFFSETTO:+0900
TZNAME:TLT
DTSTART:19700101T000000
END:STANDARD
END:VTIMEZONE
BEGIN:VEVENT
UID:1117704:Event:138419
DTSTAMP:20260424T183121Z
SUMMARY:第6回 鴨川エコマラソン
DESCRIPTION:日時　：　　2016年　10月　9日（日) スター
 　１０：３０雨天決行 種目　：　　１０k（男子の
 部・女子の部）定員300名 \n制限時間　： ７０分（初
 心者の方も気軽に参加できます） \n参加資格　： 高
 校生以上の健康な方\n会場　　　　：賀茂川河川敷
 出雲路橋下西側（京都府京都市北区出雲路俵町３）
 \n大会会場までは公共機関をご利用ください。\n主催
 　：　 runningintokyo.com (ランニンングトウキョウドッ
 コム)\n協賛　：　 Alishan, Oeconex Ltd.　　　　　　　\
 n協力　：　 京都ラジオカフェ\n受　付 ……………
 ……………………. ９：００ ～スタート３０分前ま
 で 開会式　　…………………………………. ９：５
 \n１０km　……………………………………　１０：
 ０ スタート\n表彰式　………………………………
 …　１２：００　　　\n終　了　……………………
 ……………　１３：００　\nコース : 鴨川ジョギン
 グコース５㎞を折りしコース。　　　　　　　　　
 　　　　　　　　　　　　　　　　　　　　　　
 　　　　　　　　　　　　　　　　　　  貴重品 ：
  荷物のお預かりはございません。貴重品は各個人で
 管理してください。\n注意 ： 参加される方は各自健
 康に十分留意の上ご参加ください。\n　　　　　　
 特に暑さ対策は十分行って下さい。\n参　　加　　
 　：　２８００円 （保険代も含む） \n参加賞：ク
 マ（カンボジアのスカーフ）、野球帽、サンバイ
 ーから選択。\n申込方法：スポーツエントリー、ス
 ーツワン、ランネット　締切:　大会２０日前\n大
 ホームページ：http://runningintokyo.com/events/\n計測: 手
 計測、大会当日は完走証は発行しません。大会結果
 はインター\nネットに掲載します。\n入賞者：　男子
 ７位まで　女子５位まで　\n問い合わせ ： 大会事務
 局　runningintokyo.com　(OECONEX有限会社内)\n担当　ヴィ
 ツシュトック：TEL 048-473-0898　Mail: ecomarathon@runninginto
 kyo.com\n\nFor more information visit http://runningintokyo.com/events
 /6
DTSTART;TZID=Asia/Dili:20161009T090000
DTEND;TZID=Asia/Dili:20161009T140000
CATEGORIES:race
LOCATION:京都府京都市北区出雲路俵町３
WEBSITE:https://www.google.co.jp/maps/place/〒603-8135+京都府京
 市北区出雲路俵町３/@35.0379189,135.7630712,17z/data=!3m1!4b1
 !4m5!3m4!1s0x600108136cf23a31:0x8239ca958cec8711!8m2!3d35.0379145!4d13
 5.7652652?hl=ja
URL:https://www.google.co.jp/maps/place/〒603-8135+京都府京都市
 北区出雲路俵町３/@35.0379189,135.7630712,17z/data=!3m1!4b1!4m5
 !3m4!1s0x600108136cf23a31:0x8239ca958cec8711!8m2!3d35.0379145!4d135.76
 52652?hl=ja
CONTACT:048-473-0898
ORGANIZER;CN="juergen wittstock":http://runningintokyo.com/profile/spi
 ridon
ATTACH;FMTTYPE="image/jpeg":http://storage.ning.com/topology/rest/1.0/
 file/get/1987276318?profile=original
ATTENDEE;ROLE=REQ-PARTICIPANT;PARTSTAT=ACCEPTED;RSVP=TRUE;CN="juergen 
 wittstock":http://runningintokyo.com/profile/spiridon
END:VEVENT
END:VCALENDAR
