BEGIN:VCALENDAR
PRODID:NingEventWidget-v1
VERSION:2.0
METHOD:PUBLISH
BEGIN:VTIMEZONE
TZID:Asia/Dili
X-LIC-LOCATION:Asia/Dili
BEGIN:STANDARD
TZOFFSETFROM:+0900
TZOFFSETTO:+0900
TZNAME:TLT
DTSTART:19700101T000000
END:STANDARD
END:VTIMEZONE
BEGIN:VEVENT
UID:1117704:Event:138476
DTSTAMP:20260424T212934Z
SUMMARY:第 2 回 笹目橋エコマラソン
DESCRIPTION:◉交通が便利!会場から駅が近い! ◉平坦な
 ースで記録が出やすい! ◉橋の下がスタートライン
 、雨でもノープローブレン! 日 時 :2016 年 11 月 6 日(
 ) スタート 10:30 種 目 : クォーター、ハーフ定員 100
 0名 (男子の部・女子の部) 制限時間 : 2時間30 (初心者
 の方も気軽に参加できます) 参加資格 : 高校生以上
 健康な方 会場 : 笹目橋 大会会場までは公共機関を
 利用ください。 最寄り駅:都営三田線西高島平駅→
 徒歩12分 主 催 : runningintokyo.com (ランニンングトウキ
 ウドットコム) 協 賛 : Alishan, Oeconex Ltd.  協 力 : NPO r
 efugeesinternationaljapan.org 2hj.org 受 付 ........................
 ................... 9:00 ~スタート30分前まで 開会式 .......
 ................................ 10:00 クォーター(10.5k) ー 10:3
 0 ハーフマラソン ー 11:00 スタート 表彰式 .............
 .............................13:00 ~ 13:30 終 了 ...................
 .......................15:00\nコ 貴 注 参 加 費 : ハーフ 3500
 円 クォーター(10.5k) 2800円 (保険代も含む) 参 加 賞 :
  ロ マ ( カ ン ボ ジ ア の ス カ ー フ ) 、 野 球 帽
  、 サ ン バ イ ザ ー か ら 選 択 。 申 込 方法:スポ
 ーツエントリー、スポーツワン、ランネット 締切: 
 会20日前 大会ホームページ:http://runningintokyo.com/event
 s 当日は完走証は発行しません。インターネットに
 会結果掲載。 ース : 荒川笹目からの河川敷道上流
 面5キロ(雨天決行) 重品 : 荷物のお預かりはござい
 せん。貴重品は各個人で管理してください。 意 : 
 加される方は各自健康に十分留意の上ご参加くださ
 い。 入 賞者 : 男子10位まで 女子6位まで  問い合わ
  : 大会事務局 runningintokyo.com (OECONEX有限会社内) TEL 04
 8-473-0898 Mail: ecomarathon@runningintokyo.com\n\nFor more informatio
 n visit http://runningintokyo.com/events/2
DTSTART;TZID=Asia/Dili:20161106T090000
DTEND;TZID=Asia/Dili:20161106T150000
CATEGORIES:race
LOCATION:笹目橋
WEBSITE:https://www.google.co.jp/maps/place/笹目橋/@35.8003822,139.
 6451948,17z/data=!3m1!4b1!4m5!3m4!1s0x6018eb9ef0c4d203:0x296b3adbf236f
 c01!8m2!3d35.8003779!4d139.6473888?hl=ja
URL:https://www.google.co.jp/maps/place/笹目橋/@35.8003822,139.6451
 948,17z/data=!3m1!4b1!4m5!3m4!1s0x6018eb9ef0c4d203:0x296b3adbf236fc01!
 8m2!3d35.8003779!4d139.6473888?hl=ja
CONTACT:080-3462-6833
ORGANIZER;CN="juergen wittstock":http://runningintokyo.com/profile/spi
 ridon
ATTACH;FMTTYPE="image/jpeg":http://storage.ning.com/topology/rest/1.0/
 file/get/1987275475?profile=original
ATTENDEE;ROLE=REQ-PARTICIPANT;PARTSTAT=ACCEPTED;RSVP=TRUE;CN="juergen 
 wittstock":http://runningintokyo.com/profile/spiridon
END:VEVENT
END:VCALENDAR
