BEGIN:VCALENDAR
PRODID:NingEventWidget-v1
VERSION:2.0
METHOD:PUBLISH
BEGIN:VTIMEZONE
TZID:Asia/Dili
X-LIC-LOCATION:Asia/Dili
BEGIN:STANDARD
TZOFFSETFROM:+0900
TZOFFSETTO:+0900
TZNAME:TLT
DTSTART:19700101T000000
END:STANDARD
END:VTIMEZONE
BEGIN:VEVENT
UID:1117704:Event:133714
DTSTAMP:20260424T200409Z
SUMMARY:第16回彩湖 エコマラソン オータム
DESCRIPTION:第16回彩湖エコマラソンオータム\n初心者、
 ファンランナー向けの大会です！\n日時　：　 ２０
 ６年　１０月２３日（日）　　スタート　１１：
 ０ 種目　：　　１０キロ　　　　　　　　　　定
 :　600人 制限時間　： １時間１０分（初心者の方も
 気軽に参加できます） 参加資格　： 高校生以上の
 康な方 会場　　　：　彩湖道満グリーンパーク内 
 れあい広場，管理橋となり  住所　　　：　埼玉県
 戸田市大字重瀬７４５他 （戸田市西端の荒川河川敷
 ） 大会会場まで公共機関をご利用ください。駅：JR
 蔵浦和駅→バス５分→徒歩10分 主催　：　runninginto
 kyo.com (ランニンングトウキョウドットコム) 協賛　
 　Alishan, Oeconex Ltd.　　　　　　　 協力　：　NPO refu
 geesinternationaljapan.org   受　付 …………………………
 ……… ９：３０～スタート３０分前まで 開会式　
 　………………………………… １０：3０ １０キロ
 男子女子一般の部）　………………… 　１１：０
 スタート  終　了　……………………………………
 …　　 １３：００ ※表彰式は行いません。入賞者
 受付で賞品を渡します。\nコース : 彩湖　１周約４
 ００mを周回するコース。　　　　　　　　　　　
 　　　　　　　　　　　　　　　　　　　　　　
 　　　　　　　　　　　　　　　　　  貴重品 ： 
 重品は各個人で管理してください。 注意 ： 参加さ
 れる方は各自健康に十分留意の上ご参加ください。 
 参加費：　２８００円 （保険代も含む） 参加賞：
 ロマ（カンボジアのスカーフ）、野球帽、サンバイ
 ザーから選択。 申込方法：ランネット、スポーツエ
 ントリー、スポーツワン　締切:　大会２０日前 大
 ホームページ：http://runningintokyo.com/events 計測 : 手動
  　入賞：　男子6位まで　女子3位まで 完走証：当日
 は発行しません、runningintokyo.com からダウンロードし
 てください。 runningintokyo.com に結果掲載。 問い合わ
  ： 大会事務局　runningintokyo.com (ランニンングトウ
 ョウドットコム) TEL 048-473-0898　Mail: ecomarathon@runningi
 ntokyo.com\nalishan-organics.com refugeesinternationaljapan.org 　　
  2hj.org　\n\nFor more information visit http://runningintokyo.com/ev
 ents/16
DTSTART;TZID=Asia/Dili:20161023T090000
DTEND;TZID=Asia/Dili:20161023T140000
CATEGORIES:race
LOCATION:埼玉県戸田市大字重瀬７４５他 （戸田市西端
 の荒川河川敷）
WEBSITE:
URL:
CONTACT:
ORGANIZER;CN="juergen wittstock":http://runningintokyo.com/profile/spi
 ridon
ATTACH;FMTTYPE="image/jpeg":http://storage.ning.com/topology/rest/1.0/
 file/get/1987275578?profile=original
ATTENDEE;ROLE=REQ-PARTICIPANT;PARTSTAT=ACCEPTED;RSVP=TRUE;CN="Khalfan 
 Juma":http://runningintokyo.com/profile/KhalfanJuma
ATTENDEE;ROLE=REQ-PARTICIPANT;PARTSTAT=ACCEPTED;RSVP=TRUE;CN="juergen 
 wittstock":http://runningintokyo.com/profile/spiridon
END:VEVENT
END:VCALENDAR
