BEGIN:VCALENDAR
PRODID:NingEventWidget-v1
VERSION:2.0
METHOD:PUBLISH
BEGIN:VTIMEZONE
TZID:Asia/Dili
X-LIC-LOCATION:Asia/Dili
BEGIN:STANDARD
TZOFFSETFROM:+0900
TZOFFSETTO:+0900
TZNAME:TLT
DTSTART:19700101T000000
END:STANDARD
END:VTIMEZONE
BEGIN:VEVENT
UID:1117704:Event:120110
DTSTAMP:20260423T162153Z
SUMMARY:第 14 彩湖 エコマラソン THE HALF
DESCRIPTION:日時　：　２０１５年　１2月20日（日）　
 スタート　１１：００ 種目　： 定員　800\n制限時
 　： 2時間30分（初心者の方も気軽に参加できます
 \n参加資格　： 高校生以上の健康な方\n会場　　　
 　：　彩湖道満グリーンパーク内 ふれあい広場，管
 理橋となり \n住所　　　　：　埼玉県戸田市大字重
 ７４５他 （戸田市西端の荒川河川敷）\n大会会場
 で公共機関をご利用ください。最寄り駅：JR武蔵浦
 駅→バス５分→徒歩10分\n主催　：　runningintokyo.com 
 (ランニンングトウキョウドットコム)\n協賛　：　All
 usion, SKW, Oeconex Ltd.　　　　　　　\n協力　：　NPO refu
 geesinternationaljapan.org\n受　付 …………………………
 ……… ９：３０～スタート３０分前まで 開会式　
 ………………………………… １０：3０\nハーフ（
 子女子一般の部）　……………………… １１：０
 スタート \n終　了　…………………………………
 …　　 １4：００\n※表彰式は行いません。入賞者
 受付で賞品を渡します。\nコース : 彩湖　１周約４
 ００mを周回するコース。　　　　　　　　　　　
 　　　　　　　　　　　　　　　　　　　　　　
 　　　　　　　　　　　　　　　　　  貴重品 ： 
 重品は各個人で管理してください。\n注意 ： 参加
 れる方は各自健康に十分留意の上ご参加ください。
 \n参加費：　3８００円 （保険代も含む）\n参加賞：
 ロマ（カンボジアのスカーフ）、野球帽、サンバ
 ザーから選択。\n申込方法：ランネット、スポーツ
 ントリー、スポーツワン　締切:　大会２０日前\n
 会ホームページ：http://runningintokyo.com/events\n計測 : 
 ップ 入賞：　男子6位まで　女子3位まで\n問い合わ
  ： 大会事務局　runningintokyo.com (ランニンングトウ
 ョウドットコム)\nTEL 048-473-0898　Mail: ecomarathon@running
 intokyo.com\n\nFor more information visit http://runningintokyo.com/ev
 ents/14-the-half-1
DTSTART;TZID=Asia/Dili:20151220T100000
DTEND;TZID=Asia/Dili:20151220T190000
CATEGORIES:race
LOCATION:Saiko
WEBSITE:
URL:
CONTACT:
ORGANIZER;CN="juergen wittstock":http://runningintokyo.com/profile/spi
 ridon
ATTACH;FMTTYPE="image/jpeg":http://storage.ning.com/topology/rest/1.0/
 file/get/1987273844?profile=original
ATTENDEE;ROLE=REQ-PARTICIPANT;PARTSTAT=ACCEPTED;RSVP=TRUE;CN="Yoshinor
 i  Nakamoto":http://runningintokyo.com/profile/YoshinoriNakamoto
ATTENDEE;ROLE=REQ-PARTICIPANT;PARTSTAT=ACCEPTED;RSVP=TRUE;CN="Malte Ap
 pel":http://runningintokyo.com/profile/MalteAppel
ATTENDEE;ROLE=REQ-PARTICIPANT;PARTSTAT=ACCEPTED;RSVP=TRUE;CN="Terry Ba
 ble":http://runningintokyo.com/profile/TerryBable
ATTENDEE;ROLE=REQ-PARTICIPANT;PARTSTAT=ACCEPTED;RSVP=TRUE;CN="juergen 
 wittstock":http://runningintokyo.com/profile/spiridon
ATTENDEE;ROLE=REQ-PARTICIPANT;PARTSTAT=TENTATIVE;RSVP=TRUE;CN="Jon Hol
 mes":http://runningintokyo.com/profile/JonHolmes
END:VEVENT
END:VCALENDAR
