BEGIN:VCALENDAR
PRODID:NingEventWidget-v1
VERSION:2.0
METHOD:PUBLISH
BEGIN:VTIMEZONE
TZID:Asia/Dili
X-LIC-LOCATION:Asia/Dili
BEGIN:STANDARD
TZOFFSETFROM:+0900
TZOFFSETTO:+0900
TZNAME:TLT
DTSTART:19700101T000000
END:STANDARD
END:VTIMEZONE
BEGIN:VEVENT
UID:1117704:Event:118733
DTSTAMP:20260422T055219Z
SUMMARY:第 13 彩湖 エコマラソン オータム
DESCRIPTION:日時　：　２０１５年　１０月１1日（日）
 　　スタート　１１：００\n種目　： 10km　定員　600
 \n制限時間　： 10km　1時間30分（初心者の方も気軽に
 参加できます）\n参加資格　： 高校生以上の健康な
 \n会場　　　　：　彩湖道満グリーンパーク内 ふ
 あい広場，管理橋となり\n住所　　　　：　埼玉県
 田市大字重瀬７４５他 （戸田市西端の荒川河川敷
 \n大会会場まで公共機関をご利用ください。最寄り
 駅：JR武蔵浦和駅→バス５分→徒歩10分\n主催　：　r
 unningintokyo.com (ランニンングトウキョウドットコム)\n
 協賛　：　Alishan, SKW, Oeconex Ltd.　　　　　　　\n協力
 　：　NPO  refugeesinternationaljapan.org    \n         \n
   受　付 …………………………………… ９：３０
 スタート３０分前まで\n開会式　　…………………
 ……………… １０：3０\n１０ｋm（男子女子一般の
 ）　……………………… １１：００スタート\n終　
 了　………………………………………　　 １２：０
 ０\n※表彰式は行いません。入賞者に受付で賞品を
 します。 \n\nコース : 彩湖　１周約４７００mを周
 するコース。　　　　　　　　　　　　　　　　　
 　　　　　　　　　　　　　　　　　　　　　　　
 　　　　　　　　　　　 \n貴重品 ： 貴重品は各
 人で管理してください。\n注意 ： 参加される方は
 自健康に十分留意の上ご参加ください。\n参加費　
 　１０Km　２８００円 （保険代も含む）\n参加賞：
 クロマ（カンボジアのスカーフ）、野球帽、サンバ
 ザーから選択。\n申込方法：ランネット、スポーツ
 エントリー、スポーツワン　締切:　大会２０日前\n
 会ホームページ：http://runningintokyo.com/events\n計測 : 
  上位のみ計測。           入賞：　男子6位まで　
 子3位まで\n問い合わせ ： 大会事務局　runningintokyo.
 com  (ランニンングトウキョウドットコム)\nTEL 048-473-
 0898　Mail: ecomarathon@runningintokyo.com\n\nFor more information vi
 sit http://runningintokyo.com/events/13
DTSTART;TZID=Asia/Dili:20151011T080000
DTEND;TZID=Asia/Dili:20151011T130000
CATEGORIES:race
LOCATION:Lake Saiko, Saitama
WEBSITE:
URL:
CONTACT:
ORGANIZER;CN="juergen wittstock":http://runningintokyo.com/profile/spi
 ridon
ATTACH;FMTTYPE="image/jpeg":http://storage.ning.com/topology/rest/1.0/
 file/get/1987273846?profile=original
ATTENDEE;ROLE=REQ-PARTICIPANT;PARTSTAT=ACCEPTED;RSVP=TRUE;CN="juergen 
 wittstock":http://runningintokyo.com/profile/spiridon
END:VEVENT
END:VCALENDAR
