BEGIN:VCALENDAR
PRODID:NingEventWidget-v1
VERSION:2.0
METHOD:PUBLISH
BEGIN:VTIMEZONE
TZID:Asia/Dili
X-LIC-LOCATION:Asia/Dili
BEGIN:STANDARD
TZOFFSETFROM:+0900
TZOFFSETTO:+0900
TZNAME:TLT
DTSTART:19700101T000000
END:STANDARD
END:VTIMEZONE
BEGIN:VEVENT
UID:1117704:Event:118050
DTSTAMP:20260422T025040Z
SUMMARY:第３回戸田橋ラッキー７ エコマラソン
DESCRIPTION:日時　：　　２０１５年　6月２0日（土）
 　スタート　１5：３０ 雨天決行\n種目　： 　　10
 ロ　定員 1000名 （男子の部・女子の部）\n制限時間
 ： 1時間10分（初心者の方も気軽に参加できます）\
 n参加資格　： 高校生以上の健康な方\n会場　　　　
 ：　荒川戸田橋陸上競技場\n大会会場までは公共機
 をご利用ください。最寄り駅：都営三田線西台駅→
 徒歩1５分\n主催　：　runningintokyo.com (ランニンング
 ウキョウドットコム)\n協賛　：　Alishan, SKW, Oeconex Lt
 d.　　　　　　　\n協力　：　NPO 　 refugeesinternationalj
 apan.org 　 2hj.org\n受　付 ………………………………
 …. １４:３0 ～スタート３０分前まで\n開会式　　
 ………………………………１５：００\n１０k　……
 ……………………………… 　１５：３０ スタート\n
 表彰式　……………………………………１６：５０
 　　　　\n終　了　……………………………………
 １７：１５　　\nコース : 荒川戸田橋陸上競技場か
 の河川敷道下流方面５キロ　　　　　　　　　　　
 　　　　　　　　　　　　　　　　　　　　　　　
 　　　　　　　　　　　　　　　　　\n貴重品 ： 
 物のお預かりはございません。貴重品は各個人で
 理してください。\n注意 ： 参加される方は各自健
 に十分留意の上ご参加ください。\n特に暑さ対策は
 分行って下さい。\n参　　加　　費　：　10キロ・3
 700円 （保険代も含む）\n参加賞：クロマ（カンボジ
 のスカーフ）、野球帽、サンバイザーから選択。\n
 申込方法：スポーツエントリー、スポーツワン、ラ
 ネット　締切:6月1日（月）\n特別プレゼント：　7
 以上のグループ参加の方、もしくは７０代以上の方
 に\nラッキープレゼントをご用意しております！\n詳
 細はお問い合わせください。\n大会ホームページ：ht
 tp://runningintokyo.com/events\n計測 : 手動\n入賞者 ：　男
 ７位まで　女子７位まで\n問い合わせ ： 大会事務
 　runningintokyo.com　(OECONEX有限会社内)\n担当　ヴィッ
 シュトック：TEL 048-473-0898　Mail: ecomarathon@runningintoky
 o.com\nalishan-organics.com refugeesinternationaljapan.org 　　2hj.o
 rg　 skwea.co.jp\n\nFor more information visit http://runningintokyo.
 com/events/1117704:Event:118050
DTSTART;TZID=Asia/Dili:20150620T150000
DTEND;TZID=Asia/Dili:20150620T190000
CATEGORIES:race
LOCATION:戸田橋陸上競技場
WEBSITE:https://www.google.com.kh/maps/place/%E8%8D%92%E5%B7%9D%E6%88%
 B8%E7%94%B0%E6%A9%8B%E9%99%B8%E4%B8%8A%E7%AB%B6%E6%8A%80%E5%A0%B4/@35.
 801538,139.666601,15z/data=!4m5!1m2!2m1!1z5oi455Sw5qmL!3m1!1s0x6018eb5
 e186e1f47:0x65d8f98f65b9e9ab?hl=ja
URL:https://www.google.com.kh/maps/place/%E8%8D%92%E5%B7%9D%E6%88%B8%E
 7%94%B0%E6%A9%8B%E9%99%B8%E4%B8%8A%E7%AB%B6%E6%8A%80%E5%A0%B4/@35.8015
 38,139.666601,15z/data=!4m5!1m2!2m1!1z5oi455Sw5qmL!3m1!1s0x6018eb5e186
 e1f47:0x65d8f98f65b9e9ab?hl=ja
CONTACT:
ORGANIZER;CN="juergen wittstock":http://runningintokyo.com/profile/spi
 ridon
ATTACH;FMTTYPE="image/jpeg":http://storage.ning.com/topology/rest/1.0/
 file/get/1987273875?profile=original
ATTENDEE;ROLE=REQ-PARTICIPANT;PARTSTAT=ACCEPTED;RSVP=TRUE;CN="juergen 
 wittstock":http://runningintokyo.com/profile/spiridon
END:VEVENT
END:VCALENDAR
